BEGIN:VCALENDAR
VERSION:2.0
PRODID:-//troop 50 - ECPv6.6.4.2//NONSGML v1.0//EN
CALSCALE:GREGORIAN
METHOD:PUBLISH
X-ORIGINAL-URL:https://prod.randolphtroop50.com
X-WR-CALDESC:Events for troop 50
REFRESH-INTERVAL;VALUE=DURATION:PT1H
X-Robots-Tag:noindex
X-PUBLISHED-TTL:PT1H
BEGIN:VTIMEZONE
TZID:UTC
BEGIN:STANDARD
TZOFFSETFROM:+0000
TZOFFSETTO:+0000
TZNAME:UTC
DTSTART:20250101T000000
END:STANDARD
END:VTIMEZONE
BEGIN:VEVENT
DTSTART;VALUE=DATE:20250425
DTEND;VALUE=DATE:20250428
DTSTAMP:20260420T045902
CREATED:20241221T050823Z
LAST-MODIFIED:20250523T092057Z
UID:1094-1745539200-1745798399@prod.randolphtroop50.com
SUMMARY:Advancement Campout
DESCRIPTION:Advancement Campout. Location TBA \nDownload permission slip
URL:https://prod.randolphtroop50.com/event/advancement-campout/
CATEGORIES:Camping
END:VEVENT
END:VCALENDAR