BEGIN:VCALENDAR
VERSION:2.0
PRODID:-//troop 50 - ECPv6.6.4.2//NONSGML v1.0//EN
CALSCALE:GREGORIAN
METHOD:PUBLISH
X-WR-CALNAME:troop 50
X-ORIGINAL-URL:https://prod.randolphtroop50.com
X-WR-CALDESC:Events for troop 50
REFRESH-INTERVAL;VALUE=DURATION:PT1H
X-Robots-Tag:noindex
X-PUBLISHED-TTL:PT1H
BEGIN:VTIMEZONE
TZID:UTC
BEGIN:STANDARD
TZOFFSETFROM:+0000
TZOFFSETTO:+0000
TZNAME:UTC
DTSTART:20250101T000000
END:STANDARD
END:VTIMEZONE
BEGIN:VEVENT
DTSTART;TZID=UTC:20250501T190000
DTEND;TZID=UTC:20250501T200000
DTSTAMP:20260419T221046
CREATED:20250521T111103Z
LAST-MODIFIED:20250521T111103Z
UID:1206-1746126000-1746129600@prod.randolphtroop50.com
SUMMARY:TROOP MEETING at Fernbrook
DESCRIPTION:TROOP MEETING at Fernbrook 7:30 PM. (Advancement at 7.)
URL:https://prod.randolphtroop50.com/event/troop-meeting-at-fernbrook-2/
CATEGORIES:Meeting
END:VEVENT
END:VCALENDAR